BEGIN:VCALENDAR
VERSION:2.0
PRODID:-//MN Swap - ECPv6.15.20//NONSGML v1.0//EN
CALSCALE:GREGORIAN
METHOD:PUBLISH
X-ORIGINAL-URL:https://www.mnswap.org
X-WR-CALDESC:Events for MN Swap
REFRESH-INTERVAL;VALUE=DURATION:PT1H
X-Robots-Tag:noindex
X-PUBLISHED-TTL:PT1H
BEGIN:VTIMEZONE
TZID:America/Chicago
BEGIN:DAYLIGHT
TZOFFSETFROM:-0600
TZOFFSETTO:-0500
TZNAME:CDT
DTSTART:20210314T080000
END:DAYLIGHT
BEGIN:STANDARD
TZOFFSETFROM:-0500
TZOFFSETTO:-0600
TZNAME:CST
DTSTART:20211107T070000
END:STANDARD
BEGIN:DAYLIGHT
TZOFFSETFROM:-0600
TZOFFSETTO:-0500
TZNAME:CDT
DTSTART:20220313T080000
END:DAYLIGHT
BEGIN:STANDARD
TZOFFSETFROM:-0500
TZOFFSETTO:-0600
TZNAME:CST
DTSTART:20221106T070000
END:STANDARD
BEGIN:DAYLIGHT
TZOFFSETFROM:-0600
TZOFFSETTO:-0500
TZNAME:CDT
DTSTART:20230312T080000
END:DAYLIGHT
BEGIN:STANDARD
TZOFFSETFROM:-0500
TZOFFSETTO:-0600
TZNAME:CST
DTSTART:20231105T070000
END:STANDARD
END:VTIMEZONE
BEGIN:VEVENT
DTSTART;TZID=America/Chicago:20220519T090000
DTEND;TZID=America/Chicago:20220519T150000
DTSTAMP:20260422T043850
CREATED:20220304T155514Z
LAST-MODIFIED:20220304T155514Z
UID:10000081-1652950800-1652972400@www.mnswap.org
SUMMARY:MAPA (Region 6) Metropolitan Activity Professionals Association Spring Workshop
DESCRIPTION:Here is our plan for May 19th (It’s JAM PACKED)\n9-10am Welcome & Speaker: Darcy DeMars “Show the Love on Social Media”\n10-10:15am Break\n10:15-11:15am Speaker: Samantha Sleeman “Getting Your Volunteer Program Off the Back Burner”\n11:15am-12:15pm Speaker: Rob Lahammer “Maximizing Life Enrichment Opportunities by Examining Engagement”\n12:12-12:45pm Membership Meeting/Lunch Break\n12:45 – 1:45pm Speaker: Ann Schrempp “Bridging Generations: Creating Connections through the 7 P’s of Successful Intergenerational Programs”\n1:45-2pm Break\n2-3:00pm Speaker: Jenny Schroedel “ Find the Way Back to Joy: Loss & Resiliency in a Time of Pandemic” \nMore information coming soon to www.mapatwincities.org \nEducational sessions are free for all to join. To receive CEU credit\, participants must be a member or pay the one day workshop fee. Other MNSWAP Regions are welcome to join in the sessions and share with their Region.
URL:https://www.mnswap.org/event/mapa-region-6-metropolitan-activity-professionals-association-spring-workshop/
LOCATION:Virtual
ORGANIZER;CN="Nancy Schwartz":MAILTO:nschwartz@preshomes.org
END:VEVENT
BEGIN:VEVENT
DTSTART;TZID=America/Chicago:20220111T090000
DTEND;TZID=America/Chicago:20220111T150000
DTSTAMP:20260422T043850
CREATED:20211227T030925Z
LAST-MODIFIED:20211227T030925Z
UID:10000080-1641891600-1641913200@www.mnswap.org
SUMMARY:MAPA Full Day Virtual CEU Opportunity!
DESCRIPTION:We are excited to bring to you a virtual offering of 5 CEU’s through the NAAP Platform to kick off the New Year.\nAnyone is welcome to register and enjoy the sessions on January 11th\, 2022.\nTo receive CEU credit\, participants will need to become a member or pay a fee for the day. \nYou don’t want to miss these speakers/sessions! \nJulie Reginek Session:\n“Activity Assessments: A Road Map to Quality Programming” \nCatherine Braxton Sessions:\n“Relationship Centered Care Based on Improv Rule #1: Relinquishing Your Agenda”\n“Making Your Partner Look Good\, Re-Phrasing & Re-Framing”\n“Could Sundowning Really Be Best Understood as Chronic Sleep Deprivation” \nPlease go to our website for more information on these sessions\, to become a member or register for this event: www.mapatwincities.org
URL:https://www.mnswap.org/event/mapa-full-day-virtual-ceu-opportunity/
LOCATION:Zoom
ORGANIZER;CN="Nancy Schwartz":MAILTO:nschwartz@preshomes.org
END:VEVENT
END:VCALENDAR